BEGIN:VCALENDAR
VERSION:2.0
PRODID:-//wp-events-plugin.com//7.2.3.1//EN
BEGIN:VEVENT
UID:22@federation-sophrologie.eu
DTSTART;TZID=Europe/Paris:20251205T173000
DTEND;TZID=Europe/Paris:20251205T203000
DTSTAMP:20251202T161049Z
URL:https://www.federation-sophrologie.eu/events/laccompagnement-du-deuil-
 et-des-transitions-de-vie-par-la-sophrologie-dynamique/
SUMMARY:L'accompagnement du deuil et des transitions de vie par la Sophrolo
 gie Dynamique®
DESCRIPTION:« Le deuil est une expérience à la fois universelle et singu
 lière que nous traversons tous dans notre vie\, que ce soit en lien avec 
 la mort d’un être cher\, une rupture amoureuse\, la perte d’un emploi
 …\n\nMais la vie en elle-même n’est-elle pas une succession de transi
 tions ?\n\n\nComment accueillir et accompagner nos clients dans ces pério
 des si délicates ?\n\n\nEmilie et Mathilde nous feront part de leurs exp
 ériences en ce domaine et seront à l’écoute de vos questions\, remarq
 ues\,..\n\n\n&nbsp\;\nIntéressés ?\nInscription avant le 4 décembre 202
 5\nen suivant le lien d’inscription : https://forms.gle/3q4S8L87W56VYXGx
 5\n\n&nbsp\;\n\n« Emilie a travaillé pendant 15 ans dans des services et
  établissements médico-sociaux en tant que psychologue auprès de public
 s variés. En 2019\, elle décide de s’installer en libéral \, et se fo
 rme à la Sophrologie Dynamique® car il était primordial pour elle d’i
 ntégrer davantage le corps dans la psychothérapie. La rencontre avec cet
  outil puissant a changé sa vie et sa vision de l’accompagnement !\n\nM
 athilde infirmière psychiatrique et Maître-Praticienne en Sophrologie Dy
 namique®. Elle accompagne principalement ados et adultes\, chacun dans le
 ur propre dynamique du moment. Jeunes\, moins jeunes\, hommes\, femmes\, c
 hacun peut profiter de cette expérience du lien à travers la sophrologie
  dynamique\; lien créé par la rencontre même de deux êtres vivants mai
 s surtout\, de cette rencontre avec son propre espace intérieur.\nAprès 
 12 ans de travail comme infirmière psychiatrique\, et avoir bien navigué
  aux confins de la maladie mentale\, elle s’est installée en cabinet pr
 ivé où la sophrologie dynamique l’accompagne au gré du vent et des re
 ncontres.\n\n&nbsp\;\n\nNous nous réjouissons de vous retrouver le 5 déc
 embre prochain en visio\nUne belle journée et prenez soin de vous\nPour l
 e CA de la FESD\,\nEdith de Wouters et Stéphane Pere\, co-présidents
ATTACH;FMTTYPE=image/jpeg:https://www.federation-sophrologie.eu/wp-content
 /uploads/2025/11/Blue-and-Green-Webinar-Instagram-Post_20251122_121412_000
 0.png
CATEGORIES:WEBINAIRE
END:VEVENT
BEGIN:VTIMEZONE
TZID:Europe/Paris
X-LIC-LOCATION:Europe/Paris
BEGIN:STANDARD
DTSTART:20251026T020000
TZOFFSETFROM:+0200
TZOFFSETTO:+0100
TZNAME:CET
END:STANDARD
END:VTIMEZONE
END:VCALENDAR