BEGIN:VCALENDAR
VERSION:2.0
PRODID:-//wp-events-plugin.com//7.2.3.1//EN
BEGIN:VEVENT
UID:23@federation-sophrologie.eu
DTSTART;TZID=Europe/Paris:20260613T090000
DTEND;TZID=Europe/Paris:20260614T160000
DTSTAMP:20260423T074850Z
URL:https://www.federation-sophrologie.eu/events/week-end-adherents-3/
SUMMARY:WEEK-END ADHERENTS
DESCRIPTION:Du samedi 13 juin (9h) au dimanche 14 juin (16h00) Arrivée po
 ssible dès le vendredi 12 juin à 17h\n\nDans le rythme soutenu de nos 
 vies et de nos pratiques professionnelles\, il est parfois nécessaire de
  faire une pause\, de déposer ce que l’on porte et de revenir à l’
 essentiel pour soi.\nCe week-end est une invitation à poser ses valises\
 , à s’offrir un temps de respiration\, de recul et de présence\, au 
 cœur d’un cadre propice au calme et à la rencontre.\n\nDestiné aux 
 adhérents de la F.E.S.D.\, R.S.D et A.L.S.D Sophrologues ou pratiquants 
 la Sophrologie Dynamique®\nNombre de personnes : Minimum 6 et maximum 20 
 participants\nOBJECTIFS DE CE WEEK-END\n- Offrir un espace temps professio
 nnel et personnel\n- Exprimer ses besoins professionnels\n- Remettre de la
  dynamique dans sa pratique\n- Mettre en application un rythme de pause po
 ur soi dans le quotidien\, entre 2 activités\, ...\n\n&nbsp\;\nMETHODOLO
 GIE\n- Partage d’expériences personnelles\n- Essentiellement de la pra
 tique\n- Week-end portant sur notre capacité à écouter notre corps l
 orsque nos limites sont là.\n- Accueillir les sensations créées par 
 une lecture de conte\, l’écoute de musique\,\n- Et\, pourquoi pas\, ..
 ... un petit pas de danse ..... une ballade dans la campagne environnante\
 n- Laisser s’éveiller et surgir notre créativité.....\n\nHoraires 
 : samedi 13 juin de 9h à 17h + soirée festive\, et dimanche 14 juin de
  9h à 16h.\n\nIntervenant-es :(Marie-Christine Mourier) Edith de Wouters
  et Stéphane Père se réjouissent de vous accompagner tout au long du
  week-end avec leurs différentes expertises.\nLieu : Domaine du Luth\, 1
 5 rue des Hautes Roches à 86190 QUINCAY\nCoût :\nFrais pédagogiques 
 : adhérents : 150 € / non-adhérents : 200 €\nFrais d'hébergement
  : 1 nuit = 50\,80 (taxe de séjour + 10 € pt déjeuner inclus) \; y a
 jouter 15 € si vous choisissez la chambre individuelle \, Repas : 19 €
  par repas\nInscription : ☺ au plus tard le 10 mai 2026.\nVia le lien: h
 ttps://forms.gle/w1dFr2DEt9jSRM8w8\n\nQuestions ? contact@federation-sophr
 ologie.eu
ATTACH;FMTTYPE=image/jpeg:https://www.federation-sophrologie.eu/wp-content
 /uploads/2026/04/Capture-decran-2026-04-23-a-09.39.50.png
CATEGORIES:WEEK-END ADHÉRENTS
LOCATION:Domaine du Luth\, 15 rue des Hautes Roches \, QUINCAY\, 86190\, Fr
 ance
X-APPLE-STRUCTURED-LOCATION;VALUE=URI;X-ADDRESS=15 rue des Hautes Roches \,
  QUINCAY\, 86190\, France;X-APPLE-RADIUS=100;X-TITLE=Domaine du Luth:geo:0
 ,0
END:VEVENT
BEGIN:VTIMEZONE
TZID:Europe/Paris
X-LIC-LOCATION:Europe/Paris
BEGIN:DAYLIGHT
DTSTART:20260329T030000
TZOFFSETFROM:+0100
TZOFFSETTO:+0200
TZNAME:CEST
END:DAYLIGHT
END:VTIMEZONE
END:VCALENDAR