BEGIN:VCALENDAR
VERSION:2.0
PRODID:-//wp-events-plugin.com//7.2.3.1//EN
BEGIN:VEVENT
UID:21@federation-sophrologie.eu
DTSTART;TZID=Europe/Paris:20250614T093000
DTEND;TZID=Europe/Paris:20250615T160000
DTSTAMP:20250505T071705Z
URL:https://www.federation-sophrologie.eu/events/week-end-adherents-4/
SUMMARY:Week-end adhérents
DESCRIPTION:Du samedi 14 dès 9h30 au dimanche 15 à 16h\nÊtre Praticie
 n en SoPhrologie Dynamique® en 2025?\nenviSager notre futur en confiance.
 ..\nEn 2025\, être praticien en Sophrologie Dynamique® nécessite non 
 seulement une maîtrise technique de la méthode\, mais aussi une capaci
 té d’adaptation constante pour faire vivre et vivre de la sophrologie.
 \n\nCe week-end adhérent\, organisé dans le cadre ressourçant du Dom
 aine du Luth à Quincay\, vous propose cette année de nous retrouver en
 tre pairs\, pour partager nos expériences. Nous alternerons entre moment
 s de pratique\, retours d’expériences\, soutien mutuel et co-construct
 ion de solutions adaptées aux réalités du terrain lors d’ateliers 
 participatifs\nLe programme est conçu pour laisser une place importante 
 à la dynamique du groupe. Les contenus des ateliers et des échanges se
 ront adaptés en fonction des besoins exprimés dès l’ouverture du w
 eek-end et réajustés au fil des deux jours.\n\nQue vous soyez débuta
 nt ou expérimenté\, en association\, auto-entrepreneur ou encore en fo
 rmation\, chacun pourra ainsi repartir enrichi non seulement de nouvelles 
 idées\, mais aussi de liens humains\, de perspectives renouvelées\, et
  d’élans pour continuer à faire vivre la Sophrologie Dynamique® dan
 s son quotidien et d’en vivre.\n\nSAMEDI 14\nMatinée\nAccueil et Mise 
 en disponibilité : 9h30\n\n• Ouverture du week-end : présentation\, 
 mise en commun de nos besoins\, doutes\, ....ce que nous apportons dans ce
  week-end\n• Emergences des besoins\n\nPause déjeuner\n\nAprès-midi\
 nCo-construction : 14h\n• Méthode participative : petits groupes\, é
 changes de pratiques\, retours d’expériences\n\nTemps libre / détent
 e / balades en conscience : +/- 17h\n\nSOIREE : apéritif et repas offert
  par la FESD : 19h\n\n&nbsp\;\n\nDIMANCHE 15\nMatinée\n• Eveil Corpore
 l Collectif : 9h30\n• Co-construction : partage et ancrage des apprentis
 sages : ce que je retiens\, ce que j’ai découvert\, ce que je veux exp
 lorer\, ...\n\nPause déjeuner\n\nAprès-midi\n• Projection et Elan pe
 rsonnell : 14h\n-&gt\; Création de petits carnets de bord pour son plan 
 d’action\n-&gt\; S’offrir un «rituel» de clôture collectif\n\nClo
 ̂ture et cercle de fin : 16h\n\n&nbsp\;\n\nPublic : Praticien en Sophrolo
 gie Dynamique®\, débutant ou expérimenté\, en association\, en auto
 - entrepreneur \, voire en formation\nCoût : 20 Euros pour les adhéren
 ts\nPossibilité d’hébergement et de restauration sur place (à la c
 harge du participant) -&gt\; toutes les infos dans le bulletin d’inscrip
 tion via le lien :\nhttps://forms.gle/tBvQT1pSnini9sG18\nLieu : Domaine du
  Luth\, 15 rue des Hautes Roches à 86190 QUINCAY\nInscription : ☺au pl
 us tard 20 mai 2025.\nQuestions ? contact@federation-sophrologie.eu 
ATTACH;FMTTYPE=image/jpeg:https://www.federation-sophrologie.eu/wp-content
 /uploads/2025/01/1000041444.png
CATEGORIES:WEEK-END ADHÉRENTS
END:VEVENT
BEGIN:VTIMEZONE
TZID:Europe/Paris
X-LIC-LOCATION:Europe/Paris
BEGIN:DAYLIGHT
DTSTART:20250330T030000
TZOFFSETFROM:+0100
TZOFFSETTO:+0200
TZNAME:CEST
END:DAYLIGHT
END:VTIMEZONE
END:VCALENDAR